{"text_format":"1","workbook":"xlsx","n_sheets":7,"sheets":["intro","1-100 print","1-100 hul print","1-20 print","1-20 huller print","1-100 data","1-20 data"],"not_rendered":{"charts":0,"images":0,"macros":1,"external_links":0,"defined_names":0,"comments":0,"pivot_tables":0},"unopened":[],"bounds":{"document_bytes":16777216,"sheet_cells":100000,"rows_first":2000,"rows_last":500,"rows_between":2000,"halvings":0,"cell_chars":16384,"cell_head_chars":4096},"cells_cut":0,"cells_raw":0,"read":"whole","date_system":"1900"}

{"sheet":"intro","index":0,"n_rows":8,"n_cols":3,"rows_kept":8,"cut":false,"hidden":false,"merged":[[7,0,9,0],[7,1,9,1],[0,0,0,2]]}
["1-100 og 1-20 challenge"]
["På arket","1-100 print'","kan du finde print af numrene 1-100"]
["På arket","1-100 hul print'","kan du finde print af numrene 1-100 med et antal manglende tal - vælg selv antal herunder"]
["På arket","1-20 print'","kan du finde print af numrene 1-20"]
["På arket","1-20 huller print'","kan du finde print af numrene 1-20 med et antal manglende tal - vælg selv antal herunder"]
[]
[]
["Antal manglende tal",5]

{"sheet":"1-100 print","index":1,"n_rows":20,"n_cols":10,"rows_kept":20,"cut":false,"hidden":false,"merged":[]}
[{"$f":"RANK('1-100 data'!A2,'1-100 data'!$A$2:$J$11)","v":91},{"$f":"RANK('1-100 data'!B2,'1-100 data'!$A$2:$J$11)","v":82},{"$f":"RANK('1-100 data'!C2,'1-100 data'!$A$2:$J$11)","v":10},{"$f":"RANK('1-100 data'!D2,'1-100 data'!$A$2:$J$11)","v":43},{"$f":"RANK('1-100 data'!E2,'1-100 data'!$A$2:$J$11)","v":41},{"$f":"RANK('1-100 data'!F2,'1-100 data'!$A$2:$J$11)","v":40},{"$f":"RANK('1-100 data'!G2,'1-100 data'!$A$2:$J$11)","v":8},{"$f":"RANK('1-100 data'!H2,'1-100 data'!$A$2:$J$11)","v":49},{"$f":"RANK('1-100 data'!I2,'1-100 data'!$A$2:$J$11)","v":19},{"$f":"RANK('1-100 data'!J2,'1-100 data'!$A$2:$J$11)","v":25}]
[{"$f":"RANK('1-100 data'!A3,'1-100 data'!$A$2:$J$11)","v":100},{"$f":"RANK('1-100 data'!B3,'1-100 data'!$A$2:$J$11)","v":14},{"$f":"RANK('1-100 data'!C3,'1-100 data'!$A$2:$J$11)","v":1},{"$f":"RANK('1-100 data'!D3,'1-100 data'!$A$2:$J$11)","v":62},{"$f":"RANK('1-100 data'!E3,'1-100 data'!$A$2:$J$11)","v":50},{"$f":"RANK('1-100 data'!F3,'1-100 data'!$A$2:$J$11)","v":47},{"$f":"RANK('1-100 data'!G3,'1-100 data'!$A$2:$J$11)","v":63},{"$f":"RANK('1-100 data'!H3,'1-100 data'!$A$2:$J$11)","v":26},{"$f":"RANK('1-100 data'!I3,'1-100 data'!$A$2:$J$11)","v":66},{"$f":"RANK('1-100 data'!J3,'1-100 data'!$A$2:$J$11)","v":58}]
[{"$f":"RANK('1-100 data'!A4,'1-100 data'!$A$2:$J$11)","v":73},{"$f":"RANK('1-100 data'!B4,'1-100 data'!$A$2:$J$11)","v":46},{"$f":"RANK('1-100 data'!C4,'1-100 data'!$A$2:$J$11)","v":69},{"$f":"RANK('1-100 data'!D4,'1-100 data'!$A$2:$J$11)","v":87},{"$f":"RANK('1-100 data'!E4,'1-100 data'!$A$2:$J$11)","v":27},{"$f":"RANK('1-100 data'!F4,'1-100 data'!$A$2:$J$11)","v":2},{"$f":"RANK('1-100 data'!G4,'1-100 data'!$A$2:$J$11)","v":28},{"$f":"RANK('1-100 data'!H4,'1-100 data'!$A$2:$J$11)","v":39},{"$f":"RANK('1-100 data'!I4,'1-100 data'!$A$2:$J$11)","v":18},{"$f":"RANK('1-100 data'!J4,'1-100 data'!$A$2:$J$11)","v":85}]
[{"$f":"RANK('1-100 data'!A5,'1-100 data'!$A$2:$J$11)","v":60},{"$f":"RANK('1-100 data'!B5,'1-100 data'!$A$2:$J$11)","v":71},{"$f":"RANK('1-100 data'!C5,'1-100 data'!$A$2:$J$11)","v":59},{"$f":"RANK('1-100 data'!D5,'1-100 data'!$A$2:$J$11)","v":83},{"$f":"RANK('1-100 data'!E5,'1-100 data'!$A$2:$J$11)","v":84},{"$f":"RANK('1-100 data'!F5,'1-100 data'!$A$2:$J$11)","v":99},{"$f":"RANK('1-100 data'!G5,'1-100 data'!$A$2:$J$11)","v":31},{"$f":"RANK('1-100 data'!H5,'1-100 data'!$A$2:$J$11)","v":75},{"$f":"RANK('1-100 data'!I5,'1-100 data'!$A$2:$J$11)","v":53},{"$f":"RANK('1-100 data'!J5,'1-100 data'!$A$2:$J$11)","v":97}]
[{"$f":"RANK('1-100 data'!A6,'1-100 data'!$A$2:$J$11)","v":33},{"$f":"RANK('1-100 data'!B6,'1-100 data'!$A$2:$J$11)","v":24},{"$f":"RANK('1-100 data'!C6,'1-100 data'!$A$2:$J$11)","v":42},{"$f":"RANK('1-100 data'!D6,'1-100 data'!$A$2:$J$11)","v":74},{"$f":"RANK('1-100 data'!E6,'1-100 data'!$A$2:$J$11)","v":7},{"$f":"RANK('1-100 data'!F6,'1-100 data'!$A$2:$J$11)","v":11},{"$f":"RANK('1-100 data'!G6,'1-100 data'!$A$2:$J$11)","v":15},{"$f":"RANK('1-100 data'!H6,'1-100 data'!$A$2:$J$11)","v":76},{"$f":"RANK('1-100 data'!I6,'1-100 data'!$A$2:$J$11)","v":36},{"$f":"RANK('1-100 data'!J6,'1-100 data'!$A$2:$J$11)","v":79}]
[{"$f":"RANK('1-100 data'!A7,'1-100 data'!$A$2:$J$11)","v":17},{"$f":"RANK('1-100 data'!B7,'1-100 data'!$A$2:$J$11)","v":35},{"$f":"RANK('1-100 data'!C7,'1-100 data'!$A$2:$J$11)","v":22},{"$f":"RANK('1-100 data'!D7,'1-100 data'!$A$2:$J$11)","v":95},{"$f":"RANK('1-100 data'!E7,'1-100 data'!$A$2:$J$11)","v":80},{"$f":"RANK('1-100 data'!F7,'1-100 data'!$A$2:$J$11)","v":13},{"$f":"RANK('1-100 data'!G7,'1-100 data'!$A$2:$J$11)","v":16},{"$f":"RANK('1-100 data'!H7,'1-100 data'!$A$2:$J$11)","v":3},{"$f":"RANK('1-100 data'!I7,'1-100 data'!$A$2:$J$11)","v":9},{"$f":"RANK('1-100 data'!J7,'1-100 data'!$A$2:$J$11)","v":98}]
[{"$f":"RANK('1-100 data'!A8,'1-100 data'!$A$2:$J$11)","v":32},{"$f":"RANK('1-100 data'!B8,'1-100 data'!$A$2:$J$11)","v":37},{"$f":"RANK('1-100 data'!C8,'1-100 data'!$A$2:$J$11)","v":45},{"$f":"RANK('1-100 data'!D8,'1-100 data'!$A$2:$J$11)","v":20},{"$f":"RANK('1-100 data'!E8,'1-100 data'!$A$2:$J$11)","v":72},{"$f":"RANK('1-100 data'!F8,'1-100 data'!$A$2:$J$11)","v":55},{"$f":"RANK('1-100 data'!G8,'1-100 data'!$A$2:$J$11)","v":44},{"$f":"RANK('1-100 data'!H8,'1-100 data'!$A$2:$J$11)","v":89},{"$f":"RANK('1-100 data'!I8,'1-100 data'!$A$2:$J$11)","v":67},{"$f":"RANK('1-100 data'!J8,'1-100 data'!$A$2:$J$11)","v":56}]
[{"$f":"RANK('1-100 data'!A9,'1-100 data'!$A$2:$J$11)","v":64},{"$f":"RANK('1-100 data'!B9,'1-100 data'!$A$2:$J$11)","v":70},{"$f":"RANK('1-100 data'!C9,'1-100 data'!$A$2:$J$11)","v":29},{"$f":"RANK('1-100 data'!D9,'1-100 data'!$A$2:$J$11)","v":93},{"$f":"RANK('1-100 data'!E9,'1-100 data'!$A$2:$J$11)","v":52},{"$f":"RANK('1-100 data'!F9,'1-100 data'!$A$2:$J$11)","v":68},{"$f":"RANK('1-100 data'!G9,'1-100 data'!$A$2:$J$11)","v":5},{"$f":"RANK('1-100 data'!H9,'1-100 data'!$A$2:$J$11)","v":51},{"$f":"RANK('1-100 data'!I9,'1-100 data'!$A$2:$J$11)","v":86},{"$f":"RANK('1-100 data'!J9,'1-100 data'!$A$2:$J$11)","v":12}]
[{"$f":"RANK('1-100 data'!A10,'1-100 data'!$A$2:$J$11)","v":94},{"$f":"RANK('1-100 data'!B10,'1-100 data'!$A$2:$J$11)","v":78},{"$f":"RANK('1-100 data'!C10,'1-100 data'!$A$2:$J$11)","v":30},{"$f":"RANK('1-100 data'!D10,'1-100 data'!$A$2:$J$11)","v":88},{"$f":"RANK('1-100 data'!E10,'1-100 data'!$A$2:$J$11)","v":77},{"$f":"RANK('1-100 data'!F10,'1-100 data'!$A$2:$J$11)","v":90},{"$f":"RANK('1-100 data'!G10,'1-100 data'!$A$2:$J$11)","v":54},{"$f":"RANK('1-100 data'!H10,'1-100 data'!$A$2:$J$11)","v":34},{"$f":"RANK('1-100 data'!I10,'1-100 data'!$A$2:$J$11)","v":57},{"$f":"RANK('1-100 data'!J10,'1-100 data'!$A$2:$J$11)","v":38}]
[{"$f":"RANK('1-100 data'!A11,'1-100 data'!$A$2:$J$11)","v":48},{"$f":"RANK('1-100 data'!B11,'1-100 data'!$A$2:$J$11)","v":21},{"$f":"RANK('1-100 data'!C11,'1-100 data'!$A$2:$J$11)","v":81},{"$f":"RANK('1-100 data'!D11,'1-100 data'!$A$2:$J$11)","v":6},{"$f":"RANK('1-100 data'!E11,'1-100 data'!$A$2:$J$11)","v":23},{"$f":"RANK('1-100 data'!F11,'1-100 data'!$A$2:$J$11)","v":61},{"$f":"RANK('1-100 data'!G11,'1-100 data'!$A$2:$J$11)","v":96},{"$f":"RANK('1-100 data'!H11,'1-100 data'!$A$2:$J$11)","v":4},{"$f":"RANK('1-100 data'!I11,'1-100 data'!$A$2:$J$11)","v":65},{"$f":"RANK('1-100 data'!J11,'1-100 data'!$A$2:$J$11)","v":92}]
[{"$f":"RANK('1-100 data'!A13,'1-100 data'!$A$11:$J$22)","v":9},{"$f":"RANK('1-100 data'!B13,'1-100 data'!$A$11:$J$22)","v":16},{"$f":"RANK('1-100 data'!C13,'1-100 data'!$A$11:$J$22)","v":61},{"$f":"RANK('1-100 data'!D13,'1-100 data'!$A$11:$J$22)","v":94},{"$f":"RANK('1-100 data'!E13,'1-100 data'!$A$11:$J$22)","v":62},{"$f":"RANK('1-100 data'!F13,'1-100 data'!$A$11:$J$22)","v":18},{"$f":"RANK('1-100 data'!G13,'1-100 data'!$A$11:$J$22)","v":90},{"$f":"RANK('1-100 data'!H13,'1-100 data'!$A$11:$J$22)","v":42},{"$f":"RANK('1-100 data'!I13,'1-100 data'!$A$11:$J$22)","v":41},{"$f":"RANK('1-100 data'!J13,'1-100 data'!$A$11:$J$22)","v":21}]
[{"$f":"RANK('1-100 data'!A14,'1-100 data'!$A$11:$J$22)","v":11},{"$f":"RANK('1-100 data'!B14,'1-100 data'!$A$11:$J$22)","v":83},{"$f":"RANK('1-100 data'!C14,'1-100 data'!$A$11:$J$22)","v":66},{"$f":"RANK('1-100 data'!D14,'1-100 data'!$A$11:$J$22)","v":104},{"$f":"RANK('1-100 data'!E14,'1-100 data'!$A$11:$J$22)","v":76},{"$f":"RANK('1-100 data'!F14,'1-100 data'!$A$11:$J$22)","v":15},{"$f":"RANK('1-100 data'!G14,'1-100 data'!$A$11:$J$22)","v":77},{"$f":"RANK('1-100 data'!H14,'1-100 data'!$A$11:$J$22)","v":22},{"$f":"RANK('1-100 data'!I14,'1-100 data'!$A$11:$J$22)","v":69},{"$f":"RANK('1-100 data'!J14,'1-100 data'!$A$11:$J$22)","v":40}]
[{"$f":"RANK('1-100 data'!A15,'1-100 data'!$A$11:$J$22)","v":110},{"$f":"RANK('1-100 data'!B15,'1-100 data'!$A$11:$J$22)","v":85},{"$f":"RANK('1-100 data'!C15,'1-100 data'!$A$11:$J$22)","v":43},{"$f":"RANK('1-100 data'!D15,'1-100 data'!$A$11:$J$22)","v":12},{"$f":"RANK('1-100 data'!E15,'1-100 data'!$A$11:$J$22)","v":58},{"$f":"RANK('1-100 data'!F15,'1-100 data'!$A$11:$J$22)","v":64},{"$f":"RANK('1-100 data'!G15,'1-100 data'!$A$11:$J$22)","v":25},{"$f":"RANK('1-100 data'!H15,'1-100 data'!$A$11:$J$22)","v":51},{"$f":"RANK('1-100 data'!I15,'1-100 data'!$A$11:$J$22)","v":78},{"$f":"RANK('1-100 data'!J15,'1-100 data'!$A$11:$J$22)","v":27}]
[{"$f":"RANK('1-100 data'!A16,'1-100 data'!$A$11:$J$22)","v":80},{"$f":"RANK('1-100 data'!B16,'1-100 data'!$A$11:$J$22)","v":34},{"$f":"RANK('1-100 data'!C16,'1-100 data'!$A$11:$J$22)","v":96},{"$f":"RANK('1-100 data'!D16,'1-100 data'!$A$11:$J$22)","v":99},{"$f":"RANK('1-100 data'!E16,'1-100 data'!$A$11:$J$22)","v":28},{"$f":"RANK('1-100 data'!F16,'1-100 data'!$A$11:$J$22)","v":86},{"$f":"RANK('1-100 data'!G16,'1-100 data'!$A$11:$J$22)","v":102},{"$f":"RANK('1-100 data'!H16,'1-100 data'!$A$11:$J$22)","v":7},{"$f":"RANK('1-100 data'!I16,'1-100 data'!$A$11:$J$22)","v":109},{"$f":"RANK('1-100 data'!J16,'1-100 data'!$A$11:$J$22)","v":63}]
[{"$f":"RANK('1-100 data'!A17,'1-100 data'!$A$11:$J$22)","v":13},{"$f":"RANK('1-100 data'!B17,'1-100 data'!$A$11:$J$22)","v":53},{"$f":"RANK('1-100 data'!C17,'1-100 data'!$A$11:$J$22)","v":95},{"$f":"RANK('1-100 data'!D17,'1-100 data'!$A$11:$J$22)","v":79},{"$f":"RANK('1-100 data'!E17,'1-100 data'!$A$11:$J$22)","v":71},{"$f":"RANK('1-100 data'!F17,'1-100 data'!$A$11:$J$22)","v":4},{"$f":"RANK('1-100 data'!G17,'1-100 data'!$A$11:$J$22)","v":3},{"$f":"RANK('1-100 data'!H17,'1-100 data'!$A$11:$J$22)","v":50},{"$f":"RANK('1-100 data'!I17,'1-100 data'!$A$11:$J$22)","v":98},{"$f":"RANK('1-100 data'!J17,'1-100 data'!$A$11:$J$22)","v":37}]
[{"$f":"RANK('1-100 data'!A18,'1-100 data'!$A$11:$J$22)","v":23},{"$f":"RANK('1-100 data'!B18,'1-100 data'!$A$11:$J$22)","v":44},{"$f":"RANK('1-100 data'!C18,'1-100 data'!$A$11:$J$22)","v":39},{"$f":"RANK('1-100 data'!D18,'1-100 data'!$A$11:$J$22)","v":20},{"$f":"RANK('1-100 data'!E18,'1-100 data'!$A$11:$J$22)","v":68},{"$f":"RANK('1-100 data'!F18,'1-100 data'!$A$11:$J$22)","v":52},{"$f":"RANK('1-100 data'!G18,'1-100 data'!$A$11:$J$22)","v":54},{"$f":"RANK('1-100 data'!H18,'1-100 data'!$A$11:$J$22)","v":1},{"$f":"RANK('1-100 data'!I18,'1-100 data'!$A$11:$J$22)","v":17},{"$f":"RANK('1-100 data'!J18,'1-100 data'!$A$11:$J$22)","v":106}]
[{"$f":"RANK('1-100 data'!A19,'1-100 data'!$A$11:$J$22)","v":65},{"$f":"RANK('1-100 data'!B19,'1-100 data'!$A$11:$J$22)","v":107},{"$f":"RANK('1-100 data'!C19,'1-100 data'!$A$11:$J$22)","v":97},{"$f":"RANK('1-100 data'!D19,'1-100 data'!$A$11:$J$22)","v":108},{"$f":"RANK('1-100 data'!E19,'1-100 data'!$A$11:$J$22)","v":73},{"$f":"RANK('1-100 data'!F19,'1-100 data'!$A$11:$J$22)","v":30},{"$f":"RANK('1-100 data'!G19,'1-100 data'!$A$11:$J$22)","v":81},{"$f":"RANK('1-100 data'!H19,'1-100 data'!$A$11:$J$22)","v":91},{"$f":"RANK('1-100 data'!I19,'1-100 data'!$A$11:$J$22)","v":24},{"$f":"RANK('1-100 data'!J19,'1-100 data'!$A$11:$J$22)","v":38}]
[{"$f":"RANK('1-100 data'!A20,'1-100 data'!$A$11:$J$22)","v":49},{"$f":"RANK('1-100 data'!B20,'1-100 data'!$A$11:$J$22)","v":59},{"$f":"RANK('1-100 data'!C20,'1-100 data'!$A$11:$J$22)","v":101},{"$f":"RANK('1-100 data'!D20,'1-100 data'!$A$11:$J$22)","v":57},{"$f":"RANK('1-100 data'!E20,'1-100 data'!$A$11:$J$22)","v":56},{"$f":"RANK('1-100 data'!F20,'1-100 data'!$A$11:$J$22)","v":14},{"$f":"RANK('1-100 data'!G20,'1-100 data'!$A$11:$J$22)","v":36},{"$f":"RANK('1-100 data'!H20,'1-100 data'!$A$11:$J$22)","v":26},{"$f":"RANK('1-100 data'!I20,'1-100 data'!$A$11:$J$22)","v":6},{"$f":"RANK('1-100 data'!J20,'1-100 data'!$A$11:$J$22)","v":33}]
[{"$f":"RANK('1-100 data'!A21,'1-100 data'!$A$11:$J$22)","v":2},{"$f":"RANK('1-100 data'!B21,'1-100 data'!$A$11:$J$22)","v":48},{"$f":"RANK('1-100 data'!C21,'1-100 data'!$A$11:$J$22)","v":70},{"$f":"RANK('1-100 data'!D21,'1-100 data'!$A$11:$J$22)","v":92},{"$f":"RANK('1-100 data'!E21,'1-100 data'!$A$11:$J$22)","v":82},{"$f":"RANK('1-100 data'!F21,'1-100 data'!$A$11:$J$22)","v":105},{"$f":"RANK('1-100 data'!G21,'1-100 data'!$A$11:$J$22)","v":67},{"$f":"RANK('1-100 data'!H21,'1-100 data'!$A$11:$J$22)","v":31},{"$f":"RANK('1-100 data'!I21,'1-100 data'!$A$11:$J$22)","v":60},{"$f":"RANK('1-100 data'!J21,'1-100 data'!$A$11:$J$22)","v":84}]
[{"$f":"RANK('1-100 data'!A22,'1-100 data'!$A$11:$J$22)","v":45},{"$f":"RANK('1-100 data'!B22,'1-100 data'!$A$11:$J$22)","v":75},{"$f":"RANK('1-100 data'!C22,'1-100 data'!$A$11:$J$22)","v":89},{"$f":"RANK('1-100 data'!D22,'1-100 data'!$A$11:$J$22)","v":47},{"$f":"RANK('1-100 data'!E22,'1-100 data'!$A$11:$J$22)","v":10},{"$f":"RANK('1-100 data'!F22,'1-100 data'!$A$11:$J$22)","v":19},{"$f":"RANK('1-100 data'!G22,'1-100 data'!$A$11:$J$22)","v":87},{"$f":"RANK('1-100 data'!H22,'1-100 data'!$A$11:$J$22)","v":46},{"$f":"RANK('1-100 data'!I22,'1-100 data'!$A$11:$J$22)","v":35},{"$f":"RANK('1-100 data'!J22,'1-100 data'!$A$11:$J$22)","v":93}]

{"sheet":"1-100 hul print","index":2,"n_rows":20,"n_cols":10,"rows_kept":20,"cut":false,"hidden":false,"merged":[]}
[{"$f":"IF('1-100 data'!L13<=intro!$B$8,\"\",'1-100 data'!L2)","v":91},{"$f":"IF('1-100 data'!M13<=intro!$B$8,\"\",'1-100 data'!M2)","v":82},{"$f":"IF('1-100 data'!N13<=intro!$B$8,\"\",'1-100 data'!N2)","v":10},{"$f":"IF('1-100 data'!O13<=intro!$B$8,\"\",'1-100 data'!O2)","v":43},{"$f":"IF('1-100 data'!P13<=intro!$B$8,\"\",'1-100 data'!P2)","v":41},{"$f":"IF('1-100 data'!Q13<=intro!$B$8,\"\",'1-100 data'!Q2)","v":40},{"$f":"IF('1-100 data'!R13<=intro!$B$8,\"\",'1-100 data'!R2)","v":8},{"$f":"IF('1-100 data'!S13<=intro!$B$8,\"\",'1-100 data'!S2)","v":49},{"$f":"IF('1-100 data'!T13<=intro!$B$8,\"\",'1-100 data'!T2)","v":19},{"$f":"IF('1-100 data'!U13<=intro!$B$8,\"\",'1-100 data'!U2)","v":25}]
[{"$f":"IF('1-100 data'!L14<=intro!$B$8,\"\",'1-100 data'!L3)","v":100},{"$f":"IF('1-100 data'!M14<=intro!$B$8,\"\",'1-100 data'!M3)","v":14},{"$f":"IF('1-100 data'!N14<=intro!$B$8,\"\",'1-100 data'!N3)","v":1},{"$f":"IF('1-100 data'!O14<=intro!$B$8,\"\",'1-100 data'!O3)","v":62},{"$f":"IF('1-100 data'!P14<=intro!$B$8,\"\",'1-100 data'!P3)","v":50},{"$f":"IF('1-100 data'!Q14<=intro!$B$8,\"\",'1-100 data'!Q3)","v":47},{"$f":"IF('1-100 data'!R14<=intro!$B$8,\"\",'1-100 data'!R3)","v":63},{"$f":"IF('1-100 data'!S14<=intro!$B$8,\"\",'1-100 data'!S3)","v":26},{"$f":"IF('1-100 data'!T14<=intro!$B$8,\"\",'1-100 data'!T3)","v":66},{"$f":"IF('1-100 data'!U14<=intro!$B$8,\"\",'1-100 data'!U3)","v":58}]
[{"$f":"IF('1-100 data'!L15<=intro!$B$8,\"\",'1-100 data'!L4)","v":73},{"$f":"IF('1-100 data'!M15<=intro!$B$8,\"\",'1-100 data'!M4)","v":46},{"$f":"IF('1-100 data'!N15<=intro!$B$8,\"\",'1-100 data'!N4)","v":69},{"$f":"IF('1-100 data'!O15<=intro!$B$8,\"\",'1-100 data'!O4)","v":87},{"$f":"IF('1-100 data'!P15<=intro!$B$8,\"\",'1-100 data'!P4)","v":27},{"$f":"IF('1-100 data'!Q15<=intro!$B$8,\"\",'1-100 data'!Q4)","v":2},{"$f":"IF('1-100 data'!R15<=intro!$B$8,\"\",'1-100 data'!R4)","v":28},{"$f":"IF('1-100 data'!S15<=intro!$B$8,\"\",'1-100 data'!S4)","v":39},{"$f":"IF('1-100 data'!T15<=intro!$B$8,\"\",'1-100 data'!T4)","v":18},{"$f":"IF('1-100 data'!U15<=intro!$B$8,\"\",'1-100 data'!U4)","v":85}]
[{"$f":"IF('1-100 data'!L16<=intro!$B$8,\"\",'1-100 data'!L5)","v":60},{"$f":"IF('1-100 data'!M16<=intro!$B$8,\"\",'1-100 data'!M5)","v":71},{"$f":"IF('1-100 data'!N16<=intro!$B$8,\"\",'1-100 data'!N5)","v":59},{"$f":"IF('1-100 data'!O16<=intro!$B$8,\"\",'1-100 data'!O5)","v":83},{"$f":"IF('1-100 data'!P16<=intro!$B$8,\"\",'1-100 data'!P5)","v":84},{"$f":"IF('1-100 data'!Q16<=intro!$B$8,\"\",'1-100 data'!Q5)","v":99},{"$f":"IF('1-100 data'!R16<=intro!$B$8,\"\",'1-100 data'!R5)","v":31},{"$f":"IF('1-100 data'!S16<=intro!$B$8,\"\",'1-100 data'!S5)","v":75},{"$f":"IF('1-100 data'!T16<=intro!$B$8,\"\",'1-100 data'!T5)","v":53},{"$f":"IF('1-100 data'!U16<=intro!$B$8,\"\",'1-100 data'!U5)","v":97}]
[{"$f":"IF('1-100 data'!L17<=intro!$B$8,\"\",'1-100 data'!L6)","v":33},{"$f":"IF('1-100 data'!M17<=intro!$B$8,\"\",'1-100 data'!M6)","v":24},{"$f":"IF('1-100 data'!N17<=intro!$B$8,\"\",'1-100 data'!N6)","v":42},{"$f":"IF('1-100 data'!O17<=intro!$B$8,\"\",'1-100 data'!O6)","v":74},{"$f":"IF('1-100 data'!P17<=intro!$B$8,\"\",'1-100 data'!P6)","v":7},{"$f":"IF('1-100 data'!Q17<=intro!$B$8,\"\",'1-100 data'!Q6)","v":""},{"$f":"IF('1-100 data'!R17<=intro!$B$8,\"\",'1-100 data'!R6)","v":""},{"$f":"IF('1-100 data'!S17<=intro!$B$8,\"\",'1-100 data'!S6)","v":76},{"$f":"IF('1-100 data'!T17<=intro!$B$8,\"\",'1-100 data'!T6)","v":36},{"$f":"IF('1-100 data'!U17<=intro!$B$8,\"\",'1-100 data'!U6)","v":79}]
[{"$f":"IF('1-100 data'!L18<=intro!$B$8,\"\",'1-100 data'!L7)","v":17},{"$f":"IF('1-100 data'!M18<=intro!$B$8,\"\",'1-100 data'!M7)","v":35},{"$f":"IF('1-100 data'!N18<=intro!$B$8,\"\",'1-100 data'!N7)","v":22},{"$f":"IF('1-100 data'!O18<=intro!$B$8,\"\",'1-100 data'!O7)","v":95},{"$f":"IF('1-100 data'!P18<=intro!$B$8,\"\",'1-100 data'!P7)","v":80},{"$f":"IF('1-100 data'!Q18<=intro!$B$8,\"\",'1-100 data'!Q7)","v":13},{"$f":"IF('1-100 data'!R18<=intro!$B$8,\"\",'1-100 data'!R7)","v":16},{"$f":"IF('1-100 data'!S18<=intro!$B$8,\"\",'1-100 data'!S7)","v":""},{"$f":"IF('1-100 data'!T18<=intro!$B$8,\"\",'1-100 data'!T7)","v":9},{"$f":"IF('1-100 data'!U18<=intro!$B$8,\"\",'1-100 data'!U7)","v":98}]
[{"$f":"IF('1-100 data'!L19<=intro!$B$8,\"\",'1-100 data'!L8)","v":32},{"$f":"IF('1-100 data'!M19<=intro!$B$8,\"\",'1-100 data'!M8)","v":37},{"$f":"IF('1-100 data'!N19<=intro!$B$8,\"\",'1-100 data'!N8)","v":45},{"$f":"IF('1-100 data'!O19<=intro!$B$8,\"\",'1-100 data'!O8)","v":20},{"$f":"IF('1-100 data'!P19<=intro!$B$8,\"\",'1-100 data'!P8)","v":72},{"$f":"IF('1-100 data'!Q19<=intro!$B$8,\"\",'1-100 data'!Q8)","v":55},{"$f":"IF('1-100 data'!R19<=intro!$B$8,\"\",'1-100 data'!R8)","v":44},{"$f":"IF('1-100 data'!S19<=intro!$B$8,\"\",'1-100 data'!S8)","v":89},{"$f":"IF('1-100 data'!T19<=intro!$B$8,\"\",'1-100 data'!T8)","v":67},{"$f":"IF('1-100 data'!U19<=intro!$B$8,\"\",'1-100 data'!U8)","v":56}]
[{"$f":"IF('1-100 data'!L20<=intro!$B$8,\"\",'1-100 data'!L9)","v":64},{"$f":"IF('1-100 data'!M20<=intro!$B$8,\"\",'1-100 data'!M9)","v":70},{"$f":"IF('1-100 data'!N20<=intro!$B$8,\"\",'1-100 data'!N9)","v":29},{"$f":"IF('1-100 data'!O20<=intro!$B$8,\"\",'1-100 data'!O9)","v":93},{"$f":"IF('1-100 data'!P20<=intro!$B$8,\"\",'1-100 data'!P9)","v":52},{"$f":"IF('1-100 data'!Q20<=intro!$B$8,\"\",'1-100 data'!Q9)","v":68},{"$f":"IF('1-100 data'!R20<=intro!$B$8,\"\",'1-100 data'!R9)","v":5},{"$f":"IF('1-100 data'!S20<=intro!$B$8,\"\",'1-100 data'!S9)","v":51},{"$f":"IF('1-100 data'!T20<=intro!$B$8,\"\",'1-100 data'!T9)","v":""},{"$f":"IF('1-100 data'!U20<=intro!$B$8,\"\",'1-100 data'!U9)","v":12}]
[{"$f":"IF('1-100 data'!L21<=intro!$B$8,\"\",'1-100 data'!L10)","v":""},{"$f":"IF('1-100 data'!M21<=intro!$B$8,\"\",'1-100 data'!M10)","v":78},{"$f":"IF('1-100 data'!N21<=intro!$B$8,\"\",'1-100 data'!N10)","v":30},{"$f":"IF('1-100 data'!O21<=intro!$B$8,\"\",'1-100 data'!O10)","v":88},{"$f":"IF('1-100 data'!P21<=intro!$B$8,\"\",'1-100 data'!P10)","v":77},{"$f":"IF('1-100 data'!Q21<=intro!$B$8,\"\",'1-100 data'!Q10)","v":90},{"$f":"IF('1-100 data'!R21<=intro!$B$8,\"\",'1-100 data'!R10)","v":54},{"$f":"IF('1-100 data'!S21<=intro!$B$8,\"\",'1-100 data'!S10)","v":34},{"$f":"IF('1-100 data'!T21<=intro!$B$8,\"\",'1-100 data'!T10)","v":57},{"$f":"IF('1-100 data'!U21<=intro!$B$8,\"\",'1-100 data'!U10)","v":38}]
[{"$f":"IF('1-100 data'!L22<=intro!$B$8,\"\",'1-100 data'!L11)","v":48},{"$f":"IF('1-100 data'!M22<=intro!$B$8,\"\",'1-100 data'!M11)","v":21},{"$f":"IF('1-100 data'!N22<=intro!$B$8,\"\",'1-100 data'!N11)","v":81},{"$f":"IF('1-100 data'!O22<=intro!$B$8,\"\",'1-100 data'!O11)","v":6},{"$f":"IF('1-100 data'!P22<=intro!$B$8,\"\",'1-100 data'!P11)","v":23},{"$f":"IF('1-100 data'!Q22<=intro!$B$8,\"\",'1-100 data'!Q11)","v":61},{"$f":"IF('1-100 data'!R22<=intro!$B$8,\"\",'1-100 data'!R11)","v":96},{"$f":"IF('1-100 data'!S22<=intro!$B$8,\"\",'1-100 data'!S11)","v":4},{"$f":"IF('1-100 data'!T22<=intro!$B$8,\"\",'1-100 data'!T11)","v":65},{"$f":"IF('1-100 data'!U22<=intro!$B$8,\"\",'1-100 data'!U11)","v":92}]
[{"$f":"IF('1-100 data'!L2<=intro!$B$8,\"\",'1-100 data'!L13)","v":7},{"$f":"IF('1-100 data'!M2<=intro!$B$8,\"\",'1-100 data'!M13)","v":14},{"$f":"IF('1-100 data'!N2<=intro!$B$8,\"\",'1-100 data'!N13)","v":56},{"$f":"IF('1-100 data'!O2<=intro!$B$8,\"\",'1-100 data'!O13)","v":86},{"$f":"IF('1-100 data'!P2<=intro!$B$8,\"\",'1-100 data'!P13)","v":57},{"$f":"IF('1-100 data'!Q2<=intro!$B$8,\"\",'1-100 data'!Q13)","v":16},{"$f":"IF('1-100 data'!R2<=intro!$B$8,\"\",'1-100 data'!R13)","v":82},{"$f":"IF('1-100 data'!S2<=intro!$B$8,\"\",'1-100 data'!S13)","v":38},{"$f":"IF('1-100 data'!T2<=intro!$B$8,\"\",'1-100 data'!T13)","v":37},{"$f":"IF('1-100 data'!U2<=intro!$B$8,\"\",'1-100 data'!U13)","v":19}]
[{"$f":"IF('1-100 data'!L3<=intro!$B$8,\"\",'1-100 data'!L14)","v":9},{"$f":"IF('1-100 data'!M3<=intro!$B$8,\"\",'1-100 data'!M14)","v":76},{"$f":"IF('1-100 data'!N3<=intro!$B$8,\"\",'1-100 data'!N14)","v":""},{"$f":"IF('1-100 data'!O3<=intro!$B$8,\"\",'1-100 data'!O14)","v":94},{"$f":"IF('1-100 data'!P3<=intro!$B$8,\"\",'1-100 data'!P14)","v":69},{"$f":"IF('1-100 data'!Q3<=intro!$B$8,\"\",'1-100 data'!Q14)","v":13},{"$f":"IF('1-100 data'!R3<=intro!$B$8,\"\",'1-100 data'!R14)","v":70},{"$f":"IF('1-100 data'!S3<=intro!$B$8,\"\",'1-100 data'!S14)","v":20},{"$f":"IF('1-100 data'!T3<=intro!$B$8,\"\",'1-100 data'!T14)","v":64},{"$f":"IF('1-100 data'!U3<=intro!$B$8,\"\",'1-100 data'!U14)","v":36}]
[{"$f":"IF('1-100 data'!L4<=intro!$B$8,\"\",'1-100 data'!L15)","v":100},{"$f":"IF('1-100 data'!M4<=intro!$B$8,\"\",'1-100 data'!M15)","v":78},{"$f":"IF('1-100 data'!N4<=intro!$B$8,\"\",'1-100 data'!N15)","v":39},{"$f":"IF('1-100 data'!O4<=intro!$B$8,\"\",'1-100 data'!O15)","v":10},{"$f":"IF('1-100 data'!P4<=intro!$B$8,\"\",'1-100 data'!P15)","v":53},{"$f":"IF('1-100 data'!Q4<=intro!$B$8,\"\",'1-100 data'!Q15)","v":""},{"$f":"IF('1-100 data'!R4<=intro!$B$8,\"\",'1-100 data'!R15)","v":23},{"$f":"IF('1-100 data'!S4<=intro!$B$8,\"\",'1-100 data'!S15)","v":47},{"$f":"IF('1-100 data'!T4<=intro!$B$8,\"\",'1-100 data'!T15)","v":71},{"$f":"IF('1-100 data'!U4<=intro!$B$8,\"\",'1-100 data'!U15)","v":25}]
[{"$f":"IF('1-100 data'!L5<=intro!$B$8,\"\",'1-100 data'!L16)","v":73},{"$f":"IF('1-100 data'!M5<=intro!$B$8,\"\",'1-100 data'!M16)","v":30},{"$f":"IF('1-100 data'!N5<=intro!$B$8,\"\",'1-100 data'!N16)","v":88},{"$f":"IF('1-100 data'!O5<=intro!$B$8,\"\",'1-100 data'!O16)","v":91},{"$f":"IF('1-100 data'!P5<=intro!$B$8,\"\",'1-100 data'!P16)","v":26},{"$f":"IF('1-100 data'!Q5<=intro!$B$8,\"\",'1-100 data'!Q16)","v":79},{"$f":"IF('1-100 data'!R5<=intro!$B$8,\"\",'1-100 data'!R16)","v":93},{"$f":"IF('1-100 data'!S5<=intro!$B$8,\"\",'1-100 data'!S16)","v":6},{"$f":"IF('1-100 data'!T5<=intro!$B$8,\"\",'1-100 data'!T16)","v":99},{"$f":"IF('1-100 data'!U5<=intro!$B$8,\"\",'1-100 data'!U16)","v":58}]
[{"$f":"IF('1-100 data'!L6<=intro!$B$8,\"\",'1-100 data'!L17)","v":11},{"$f":"IF('1-100 data'!M6<=intro!$B$8,\"\",'1-100 data'!M17)","v":49},{"$f":"IF('1-100 data'!N6<=intro!$B$8,\"\",'1-100 data'!N17)","v":87},{"$f":"IF('1-100 data'!O6<=intro!$B$8,\"\",'1-100 data'!O17)","v":72},{"$f":"IF('1-100 data'!P6<=intro!$B$8,\"\",'1-100 data'!P17)","v":66},{"$f":"IF('1-100 data'!Q6<=intro!$B$8,\"\",'1-100 data'!Q17)","v":4},{"$f":"IF('1-100 data'!R6<=intro!$B$8,\"\",'1-100 data'!R17)","v":3},{"$f":"IF('1-100 data'!S6<=intro!$B$8,\"\",'1-100 data'!S17)","v":46},{"$f":"IF('1-100 data'!T6<=intro!$B$8,\"\",'1-100 data'!T17)","v":90},{"$f":"IF('1-100 data'!U6<=intro!$B$8,\"\",'1-100 data'!U17)","v":33}]
[{"$f":"IF('1-100 data'!L7<=intro!$B$8,\"\",'1-100 data'!L18)","v":21},{"$f":"IF('1-100 data'!M7<=intro!$B$8,\"\",'1-100 data'!M18)","v":40},{"$f":"IF('1-100 data'!N7<=intro!$B$8,\"\",'1-100 data'!N18)","v":35},{"$f":"IF('1-100 data'!O7<=intro!$B$8,\"\",'1-100 data'!O18)","v":18},{"$f":"IF('1-100 data'!P7<=intro!$B$8,\"\",'1-100 data'!P18)","v":63},{"$f":"IF('1-100 data'!Q7<=intro!$B$8,\"\",'1-100 data'!Q18)","v":48},{"$f":"IF('1-100 data'!R7<=intro!$B$8,\"\",'1-100 data'!R18)","v":50},{"$f":"IF('1-100 data'!S7<=intro!$B$8,\"\",'1-100 data'!S18)","v":""},{"$f":"IF('1-100 data'!T7<=intro!$B$8,\"\",'1-100 data'!T18)","v":15},{"$f":"IF('1-100 data'!U7<=intro!$B$8,\"\",'1-100 data'!U18)","v":96}]
[{"$f":"IF('1-100 data'!L8<=intro!$B$8,\"\",'1-100 data'!L19)","v":60},{"$f":"IF('1-100 data'!M8<=intro!$B$8,\"\",'1-100 data'!M19)","v":97},{"$f":"IF('1-100 data'!N8<=intro!$B$8,\"\",'1-100 data'!N19)","v":89},{"$f":"IF('1-100 data'!O8<=intro!$B$8,\"\",'1-100 data'!O19)","v":98},{"$f":"IF('1-100 data'!P8<=intro!$B$8,\"\",'1-100 data'!P19)","v":67},{"$f":"IF('1-100 data'!Q8<=intro!$B$8,\"\",'1-100 data'!Q19)","v":27},{"$f":"IF('1-100 data'!R8<=intro!$B$8,\"\",'1-100 data'!R19)","v":74},{"$f":"IF('1-100 data'!S8<=intro!$B$8,\"\",'1-100 data'!S19)","v":83},{"$f":"IF('1-100 data'!T8<=intro!$B$8,\"\",'1-100 data'!T19)","v":22},{"$f":"IF('1-100 data'!U8<=intro!$B$8,\"\",'1-100 data'!U19)","v":34}]
[{"$f":"IF('1-100 data'!L9<=intro!$B$8,\"\",'1-100 data'!L20)","v":45},{"$f":"IF('1-100 data'!M9<=intro!$B$8,\"\",'1-100 data'!M20)","v":54},{"$f":"IF('1-100 data'!N9<=intro!$B$8,\"\",'1-100 data'!N20)","v":92},{"$f":"IF('1-100 data'!O9<=intro!$B$8,\"\",'1-100 data'!O20)","v":52},{"$f":"IF('1-100 data'!P9<=intro!$B$8,\"\",'1-100 data'!P20)","v":51},{"$f":"IF('1-100 data'!Q9<=intro!$B$8,\"\",'1-100 data'!Q20)","v":12},{"$f":"IF('1-100 data'!R9<=intro!$B$8,\"\",'1-100 data'!R20)","v":""},{"$f":"IF('1-100 data'!S9<=intro!$B$8,\"\",'1-100 data'!S20)","v":24},{"$f":"IF('1-100 data'!T9<=intro!$B$8,\"\",'1-100 data'!T20)","v":5},{"$f":"IF('1-100 data'!U9<=intro!$B$8,\"\",'1-100 data'!U20)","v":29}]
[{"$f":"IF('1-100 data'!L10<=intro!$B$8,\"\",'1-100 data'!L21)","v":2},{"$f":"IF('1-100 data'!M10<=intro!$B$8,\"\",'1-100 data'!M21)","v":44},{"$f":"IF('1-100 data'!N10<=intro!$B$8,\"\",'1-100 data'!N21)","v":65},{"$f":"IF('1-100 data'!O10<=intro!$B$8,\"\",'1-100 data'!O21)","v":84},{"$f":"IF('1-100 data'!P10<=intro!$B$8,\"\",'1-100 data'!P21)","v":75},{"$f":"IF('1-100 data'!Q10<=intro!$B$8,\"\",'1-100 data'!Q21)","v":95},{"$f":"IF('1-100 data'!R10<=intro!$B$8,\"\",'1-100 data'!R21)","v":62},{"$f":"IF('1-100 data'!S10<=intro!$B$8,\"\",'1-100 data'!S21)","v":28},{"$f":"IF('1-100 data'!T10<=intro!$B$8,\"\",'1-100 data'!T21)","v":55},{"$f":"IF('1-100 data'!U10<=intro!$B$8,\"\",'1-100 data'!U21)","v":77}]
[{"$f":"IF('1-100 data'!L11<=intro!$B$8,\"\",'1-100 data'!L22)","v":41},{"$f":"IF('1-100 data'!M11<=intro!$B$8,\"\",'1-100 data'!M22)","v":68},{"$f":"IF('1-100 data'!N11<=intro!$B$8,\"\",'1-100 data'!N22)","v":81},{"$f":"IF('1-100 data'!O11<=intro!$B$8,\"\",'1-100 data'!O22)","v":43},{"$f":"IF('1-100 data'!P11<=intro!$B$8,\"\",'1-100 data'!P22)","v":8},{"$f":"IF('1-100 data'!Q11<=intro!$B$8,\"\",'1-100 data'!Q22)","v":17},{"$f":"IF('1-100 data'!R11<=intro!$B$8,\"\",'1-100 data'!R22)","v":80},{"$f":"IF('1-100 data'!S11<=intro!$B$8,\"\",'1-100 data'!S22)","v":""},{"$f":"IF('1-100 data'!T11<=intro!$B$8,\"\",'1-100 data'!T22)","v":31},{"$f":"IF('1-100 data'!U11<=intro!$B$8,\"\",'1-100 data'!U22)","v":85}]

{"sheet":"1-20 print","index":3,"n_rows":11,"n_cols":4,"rows_kept":11,"cut":false,"hidden":false,"merged":[]}
[{"$f":"'1-20 data'!F2","v":20},{"$f":"'1-20 data'!G2","v":16},{"$f":"'1-20 data'!H2","v":8},{"$f":"'1-20 data'!I2","v":14}]
[{"$f":"'1-20 data'!F3","v":5},{"$f":"'1-20 data'!G3","v":3},{"$f":"'1-20 data'!H3","v":17},{"$f":"'1-20 data'!I3","v":9}]
[{"$f":"'1-20 data'!F4","v":7},{"$f":"'1-20 data'!G4","v":13},{"$f":"'1-20 data'!H4","v":2},{"$f":"'1-20 data'!I4","v":19}]
[{"$f":"'1-20 data'!F5","v":4},{"$f":"'1-20 data'!G5","v":1},{"$f":"'1-20 data'!H5","v":15},{"$f":"'1-20 data'!I5","v":11}]
[{"$f":"'1-20 data'!F6","v":12},{"$f":"'1-20 data'!G6","v":10},{"$f":"'1-20 data'!H6","v":6},{"$f":"'1-20 data'!I6","v":18}]
[]
[{"$f":"'1-20 data'!F8","v":20},{"$f":"'1-20 data'!G8","v":6},{"$f":"'1-20 data'!H8","v":9},{"$f":"'1-20 data'!I8","v":3}]
[{"$f":"'1-20 data'!F9","v":2},{"$f":"'1-20 data'!G9","v":5},{"$f":"'1-20 data'!H9","v":12},{"$f":"'1-20 data'!I9","v":8}]
[{"$f":"'1-20 data'!F10","v":1},{"$f":"'1-20 data'!G10","v":15},{"$f":"'1-20 data'!H10","v":13},{"$f":"'1-20 data'!I10","v":7}]
[{"$f":"'1-20 data'!F11","v":4},{"$f":"'1-20 data'!G11","v":10},{"$f":"'1-20 data'!H11","v":11},{"$f":"'1-20 data'!I11","v":18}]
[{"$f":"'1-20 data'!F12","v":19},{"$f":"'1-20 data'!G12","v":14},{"$f":"'1-20 data'!H12","v":16},{"$f":"'1-20 data'!I12","v":17}]

{"sheet":"1-20 huller print","index":4,"n_rows":11,"n_cols":4,"rows_kept":11,"cut":false,"hidden":false,"merged":[]}
[{"$f":"IF('1-20 data'!F8<=intro!$B$8,\"\",'1-20 data'!F2)","v":20},{"$f":"IF('1-20 data'!G8<=intro!$B$8,\"\",'1-20 data'!G2)","v":16},{"$f":"IF('1-20 data'!H8<=intro!$B$8,\"\",'1-20 data'!H2)","v":8},{"$f":"IF('1-20 data'!I8<=intro!$B$8,\"\",'1-20 data'!I2)","v":""}]
[{"$f":"IF('1-20 data'!F9<=intro!$B$8,\"\",'1-20 data'!F3)","v":""},{"$f":"IF('1-20 data'!G9<=intro!$B$8,\"\",'1-20 data'!G3)","v":""},{"$f":"IF('1-20 data'!H9<=intro!$B$8,\"\",'1-20 data'!H3)","v":17},{"$f":"IF('1-20 data'!I9<=intro!$B$8,\"\",'1-20 data'!I3)","v":9}]
[{"$f":"IF('1-20 data'!F10<=intro!$B$8,\"\",'1-20 data'!F4)","v":""},{"$f":"IF('1-20 data'!G10<=intro!$B$8,\"\",'1-20 data'!G4)","v":13},{"$f":"IF('1-20 data'!H10<=intro!$B$8,\"\",'1-20 data'!H4)","v":2},{"$f":"IF('1-20 data'!I10<=intro!$B$8,\"\",'1-20 data'!I4)","v":19}]
[{"$f":"IF('1-20 data'!F11<=intro!$B$8,\"\",'1-20 data'!F5)","v":""},{"$f":"IF('1-20 data'!G11<=intro!$B$8,\"\",'1-20 data'!G5)","v":1},{"$f":"IF('1-20 data'!H11<=intro!$B$8,\"\",'1-20 data'!H5)","v":15},{"$f":"IF('1-20 data'!I11<=intro!$B$8,\"\",'1-20 data'!I5)","v":11}]
[{"$f":"IF('1-20 data'!F12<=intro!$B$8,\"\",'1-20 data'!F6)","v":12},{"$f":"IF('1-20 data'!G12<=intro!$B$8,\"\",'1-20 data'!G6)","v":10},{"$f":"IF('1-20 data'!H12<=intro!$B$8,\"\",'1-20 data'!H6)","v":6},{"$f":"IF('1-20 data'!I12<=intro!$B$8,\"\",'1-20 data'!I6)","v":18}]
[]
[{"$f":"IF('1-20 data'!F2<=intro!$B$8,\"\",'1-20 data'!F8)","v":20},{"$f":"IF('1-20 data'!G2<=intro!$B$8,\"\",'1-20 data'!G8)","v":6},{"$f":"IF('1-20 data'!H2<=intro!$B$8,\"\",'1-20 data'!H8)","v":9},{"$f":"IF('1-20 data'!I2<=intro!$B$8,\"\",'1-20 data'!I8)","v":3}]
[{"$f":"IF('1-20 data'!F3<=intro!$B$8,\"\",'1-20 data'!F9)","v":""},{"$f":"IF('1-20 data'!G3<=intro!$B$8,\"\",'1-20 data'!G9)","v":""},{"$f":"IF('1-20 data'!H3<=intro!$B$8,\"\",'1-20 data'!H9)","v":12},{"$f":"IF('1-20 data'!I3<=intro!$B$8,\"\",'1-20 data'!I9)","v":8}]
[{"$f":"IF('1-20 data'!F4<=intro!$B$8,\"\",'1-20 data'!F10)","v":1},{"$f":"IF('1-20 data'!G4<=intro!$B$8,\"\",'1-20 data'!G10)","v":15},{"$f":"IF('1-20 data'!H4<=intro!$B$8,\"\",'1-20 data'!H10)","v":""},{"$f":"IF('1-20 data'!I4<=intro!$B$8,\"\",'1-20 data'!I10)","v":7}]
[{"$f":"IF('1-20 data'!F5<=intro!$B$8,\"\",'1-20 data'!F11)","v":""},{"$f":"IF('1-20 data'!G5<=intro!$B$8,\"\",'1-20 data'!G11)","v":""},{"$f":"IF('1-20 data'!H5<=intro!$B$8,\"\",'1-20 data'!H11)","v":11},{"$f":"IF('1-20 data'!I5<=intro!$B$8,\"\",'1-20 data'!I11)","v":18}]
[{"$f":"IF('1-20 data'!F6<=intro!$B$8,\"\",'1-20 data'!F12)","v":19},{"$f":"IF('1-20 data'!G6<=intro!$B$8,\"\",'1-20 data'!G12)","v":14},{"$f":"IF('1-20 data'!H6<=intro!$B$8,\"\",'1-20 data'!H12)","v":16},{"$f":"IF('1-20 data'!I6<=intro!$B$8,\"\",'1-20 data'!I12)","v":17}]

{"sheet":"1-100 data","index":5,"n_rows":22,"n_cols":21,"rows_kept":22,"cut":false,"hidden":false,"merged":[]}
[]
[{"$f":"RAND()","v":9.3363657867609473E-2},0.20156100277156785,0.87208758478481363,0.54183339565079847,0.57917760953094499,0.58123701466606714,0.91815208651038638,0.48408357095865873,0.79110333849234016,0.71024611825835404,null,{"$f":"RANK(A2,$A$2:$J$11)","v":91},{"$f":"RANK(B2,$A$2:$J$11)","v":82},10,43,41,40,8,49,19,25]
[9.4791966102348857E-3,0.81775380239305118,0.9990660517723482,0.35690008254531824,0.4797762046242281,0.52664824043474123,0.3567072014273196,0.7004679315081801,0.34766094206006437,0.38078483817199316,null,{"$f":"RANK(A3,$A$2:$J$11)","v":100},14,1,62,50,47,63,26,66,58]
[0.24739394354356459,0.52814194430863137,0.28250251185367548,0.12856200200053691,0.68128647319910263,0.98121920497965054,0.6587193610730987,0.58717267098582304,0.79748960432989036,0.13262328542852531,null,73,46,69,87,27,2,28,39,18,85]
[0.37142328189645724,0.25626123654805266,0.37172268548375942,0.17949902057800793,0.15328719103428035,1.7857610874598584E-2,0.64081123338534984,0.23178697895164357,0.42061519668459757,4.0829377527165311E-2,null,60,71,59,83,84,99,31,75,53,97]
[0.63123364134384208,0.71457124438894892,0.56329194413787809,0.24700986002715219,0.92088974989131489,0.86639391146524181,0.81152262749144155,0.22525520341461014,0.59803962437366964,0.2165527105422379,null,33,24,42,74,7,11,15,76,36,79]
[0.80300612528458226,0.62346975467565202,0.73905422908877427,6.4255444833291597E-2,0.21590835677536679,0.828976328658943,0.80990926006786657,0.97861908213155258,0.87492725789790537,1.8541517580582534E-2,null,17,35,22,95,80,13,16,3,9,98]
[0.63723917205446623,0.59634796729898043,0.53818579994542004,0.7902836879639199,0.25546828600541338,0.39137349130923738,0.54125022721221838,0.10325364271842519,0.32412703613404004,0.38605164080393717,null,32,37,45,20,72,55,44,89,67,56]
[0.35303454846408278,0.25991339247190093,0.65346134398766254,7.5918373193526012E-2,0.46662379777101914,0.28349093537134884,0.96799168720570206,0.47370918367492476,0.13242451680644662,0.84735748154406287,null,64,70,29,93,52,68,5,51,86,12]
[7.4823898816097856E-2,0.21722386016908157,0.64718984045036132,0.12779123649732005,0.22301718862478093,9.3748399576242925E-2,0.39524849885900659,0.62533045772567475,0.3839564502838515,0.58934391872244851,null,94,78,30,88,77,90,54,34,57,38]
[0.49746819759830785,0.76181684669283423,0.20747976986937622,0.95383610090946458,0.73589371321098529,0.3600698527948395,4.928611665533067E-2,0.97619572372592722,0.35077797515736708,7.8407279819355469E-2,null,48,21,81,6,23,61,96,4,65,92]
[]
[{"$f":"RAND()","v":0.93889301957141946},0.85520695831384685,0.43157137234351739,0.13010116999949917,0.41808724864536961,0.83315316611495793,0.19784427390045767,0.63494768219045938,0.64828961439933797,0.81260289911262551,null,{"$f":"RANK(A13,$A$13:$J$22)","v":7},{"$f":"RANK(B13,$A$13:$J$22)","v":14},56,86,57,16,82,38,37,19]
[0.93551503136368619,0.27853196604750841,0.39504213226407237,4.7938780685319649E-2,0.32416462537013524,0.88646677521335604,0.31682847452974328,0.79611945121728156,0.3834836774426118,0.6494837228861311,null,{"$f":"RANK(A14,$A$13:$J$22)","v":9},76,61,94,69,13,70,20,64,36]
[7.1701672390731552E-3,0.24867081032251992,0.62576215470939978,0.91435447835474815,0.46341727831158008,0.4087032308382007,0.77956266588616496,0.52336529563157808,0.29677171136364089,0.77475785559502042,null,100,78,39,10,53,59,23,47,71,25]
[0.29376387971925233,0.72042433339517509,0.10621433837351535,8.0898443583332202E-2,0.76438513838793287,0.23190274025928415,4.9406556697401793E-2,0.9539070476374053,8.984266662642848E-3,0.41624441836774095,null,73,30,88,91,26,79,93,6,99,58]
[0.90438615336033157,0.50452949574885553,0.12114105753621285,0.2949663128047102,0.36208977223933636,0.98175927850007383,0.98323068678979775,0.55523189910133475,8.2736087385045565E-2,0.66652337736094802,null,11,49,87,72,66,4,3,46,90,33]
[0.79032459851791503,0.61750033569444607,0.65025830809766116,0.81351045364061025,0.38352558266799519,0.51982191217561946,0.50349242288959717,0.98896875025246411,0.83958021776121838,3.9298838171625827E-2,null,21,40,35,18,63,48,50,1,15,96]
[0.39577778641232164,2.7447257526977853E-2,8.3175091367922116E-2,1.6613075785284814E-2,0.35270847601537003,0.75584749838795873,0.28454903106213025,0.16241863037863324,0.7881296435118228,0.66113763369933509,null,60,97,89,98,67,27,74,83,22,34]
[0.55746832354183795,0.46145991781760487,7.2727957607196969E-2,0.47976913810449451,0.48204979131680092,0.89009597139536445,0.68395079235139866,0.77795359279800991,0.97109174624993377,0.72924800973358184,null,45,54,92,52,51,12,32,24,5,29]
[0.9837779887193292,0.57156836061097216,0.38105111726704133,0.14958161569664441,0.27971649496602025,3.942507524108374E-2,0.38716834711496517,0.75526447815928388,0.45290472367697499,0.27596997940584311,null,2,44,65,84,75,95,62,28,55,77]
[0.60994711326337969,0.33646135971142144,0.19973818409804101,0.58185096728787167,0.93795907166192938,0.82688024202065247,0.21601492336412664,0.60298847253407717,0.69655450073032654,0.14826552093343826,null,41,68,81,43,8,17,80,42,31,85]

{"sheet":"1-20 data","index":6,"n_rows":12,"n_cols":9,"rows_kept":12,"cut":false,"hidden":false,"merged":[]}
[]
[{"$f":"RAND()","v":4.2933325322825344E-2},0.13520158774956703,0.63075763680880514,0.30585476794224964,null,{"$f":"RANK(A2,$A$2:$D$6)","v":20},{"$f":"RANK(B2,$A$2:$D$6)","v":16},8,14]
[0.83708646533761555,0.92834233653518294,7.6811977775327112E-2,0.62869639844721936,null,{"$f":"RANK(A3,$A$2:$D$6)","v":5},3,17,9]
[0.64089381736976658,0.32717000266239527,0.98227855527728969,4.9705850692525866E-2,null,7,13,2,19]
[0.86559063402057601,0.99024232507042143,0.21005884258987451,0.45206617477113042,null,4,1,15,11]
[0.36125087341744511,0.49322167956033547,0.68070422243561823,6.0162509969015288E-2,null,12,10,6,18]
[]
[{"$f":"RAND()","v":1.4881325069859397E-2},0.58278601536316121,0.44849739706100178,0.86186177449589041,null,{"$f":"RANK(A8,$A$8:$D$12)","v":20},{"$f":"RANK(B8,$A$8:$D$12)","v":6},9,3]
[0.86301945704346761,0.59429856885360044,0.3932698376612882,0.50401331279572481,null,{"$f":"RANK(A9,$A$8:$D$12)","v":2},5,12,8]
[0.87474697453679007,0.27329899540528935,0.37919074926570517,0.50538812316165449,null,1,15,13,7]
[0.7536470424473144,0.41081968789664081,0.39667693408533267,0.17870864897760952,null,4,10,11,18]
[0.1160281143864994,0.31296278393551324,0.23042589340140096,0.21804106341541296,null,19,14,16,17]